BEGIN:VCALENDAR
VERSION:2.0
PRODID:icalendar-ruby
CALSCALE:GREGORIAN
METHOD:PUBLISH
BEGIN:VEVENT
DTSTAMP:20260424T132316Z
UID:45-3187682@stpeterspawleys.org
DTSTART:20261012T170000Z
DTEND:20261012T190000Z
CLASS:PUBLIC
CREATED:20260424T064523
DESCRIPTION:Join our Quilting Ministry.  
LAST-MODIFIED:20260424T064523
LOCATION:Upstairs in the Parish Life Center
SUMMARY:Quilting Ministry
URL;VALUE=URI:https://www.stpeterspawleys.org/events/quilting-ministry/2026
 -10-12
ATTACH;FILENAME=Quilting.JPG;FMTTYPE=image/jpeg:https://dq5pwpg1q8ru0.cloud
 front.net/2021/12/14/16/41/03/606c099c-4b11-45d9-8660-e3be7f5a0026/Quiltin
 g.JPG
END:VEVENT
END:VCALENDAR
