BEGIN:VCALENDAR
VERSION:2.0
PRODID:icalendar-ruby
CALSCALE:GREGORIAN
METHOD:PUBLISH
BEGIN:VEVENT
DTSTAMP:20260424T155103Z
UID:215-3191442@stpeterspawleys.org
DTSTART:20260929T213000Z
DTEND:20260929T223000Z
CLASS:PUBLIC
CREATED:20260424T094001
DESCRIPTION:
LAST-MODIFIED:20260424T094001
LOCATION:Heinecke Hall /St. Peter's Front Parking Lot
SUMMARY:Pack 323 Cub Scout Meeting
URL;VALUE=URI:https://www.stpeterspawleys.org/events/pack-323-cub-scout-mee
 ting/2026-09-29
ATTACH;FILENAME=Screenshot 2025-03-05 124243.png;FMTTYPE=image/png:https://
 dq5pwpg1q8ru0.cloudfront.net/2025/03/05/17/45/24/6c7d6334-1b80-40d3-8270-1
 7894bcd7203/Screenshot%202025-03-05%20124243.png
END:VEVENT
END:VCALENDAR
