BEGIN:VCALENDAR
VERSION:2.0
PRODID:icalendar-ruby
CALSCALE:GREGORIAN
METHOD:PUBLISH
BEGIN:VEVENT
DTSTAMP:20260424T233450Z
UID:202-3198079@stpeterspawleys.org
DTSTART:20261101T190000Z
DTEND:20261101T213000Z
CLASS:PUBLIC
CREATED:20260424T180431
DESCRIPTION:
LAST-MODIFIED:20260424T180431
LOCATION:Heinecke Kitchen 
SUMMARY:Kitchen Prep HOG
URL;VALUE=URI:https://www.stpeterspawleys.org/events/kitchen-prep-hog/2026-
 11-01
END:VEVENT
END:VCALENDAR
