BEGIN:VCALENDAR
VERSION:2.0
PRODID:icalendar-ruby
CALSCALE:GREGORIAN
METHOD:PUBLISH
BEGIN:VEVENT
DTSTAMP:20260424T205447Z
UID:202-3195739@stpeterspawleys.org
DTSTART:20261018T180000Z
DTEND:20261018T203000Z
CLASS:PUBLIC
CREATED:20260424T151637
DESCRIPTION:
LAST-MODIFIED:20260424T151637
LOCATION:Heinecke Kitchen 
SUMMARY:Kitchen Prep HOG
URL;VALUE=URI:https://www.stpeterspawleys.org/events/kitchen-prep-hog/2026-
 10-18
END:VEVENT
END:VCALENDAR
