BEGIN:VCALENDAR
VERSION:2.0
PRODID:icalendar-ruby
CALSCALE:GREGORIAN
METHOD:PUBLISH
BEGIN:VEVENT
DTSTAMP:20260424T182330Z
UID:202-3193399@stpeterspawleys.org
DTSTART:20261004T180000Z
DTEND:20261004T203000Z
CLASS:PUBLIC
CREATED:20260424T123042
DESCRIPTION:
LAST-MODIFIED:20260424T123042
LOCATION:Heinecke Kitchen 
SUMMARY:Kitchen Prep HOG
URL;VALUE=URI:https://www.stpeterspawleys.org/events/kitchen-prep-hog/2026-
 10-04
END:VEVENT
END:VCALENDAR
