BEGIN:VCALENDAR
VERSION:2.0
PRODID:icalendar-ruby
CALSCALE:GREGORIAN
METHOD:PUBLISH
BEGIN:VEVENT
DTSTAMP:20260424T171203Z
UID:202-3193398@stpeterspawleys.org
DTSTART:20260927T180000Z
DTEND:20260927T203000Z
CLASS:PUBLIC
CREATED:20260424T123042
DESCRIPTION:
LAST-MODIFIED:20260424T123042
LOCATION:Heinecke Kitchen 
SUMMARY:Kitchen Prep HOG
URL;VALUE=URI:https://www.stpeterspawleys.org/events/kitchen-prep-hog/2026-
 09-27
END:VEVENT
END:VCALENDAR
