BEGIN:VCALENDAR
VERSION:2.0
PRODID:icalendar-ruby
CALSCALE:GREGORIAN
METHOD:PUBLISH
BEGIN:VEVENT
DTSTAMP:20260424T141856Z
UID:202-3191058@stpeterspawleys.org
DTSTART:20260913T180000Z
DTEND:20260913T203000Z
CLASS:PUBLIC
CREATED:20260424T094000
DESCRIPTION:
LAST-MODIFIED:20260424T094000
LOCATION:Heinecke Kitchen 
SUMMARY:Kitchen Prep HOG
URL;VALUE=URI:https://www.stpeterspawleys.org/events/kitchen-prep-hog/2026-
 09-13
END:VEVENT
END:VCALENDAR
