BEGIN:VCALENDAR
VERSION:2.0
PRODID:icalendar-ruby
CALSCALE:GREGORIAN
METHOD:PUBLISH
BEGIN:VEVENT
DTSTAMP:20260424T124309Z
UID:118-3187877@stpeterspawleys.org
DTSTART:20260917T213000Z
DTEND:20260917T223000Z
CLASS:PUBLIC
CREATED:20260424T064524
DESCRIPTION:Join Our Choir!
LAST-MODIFIED:20260424T064524
LOCATION:
SUMMARY:Choir Rehearsal
URL;VALUE=URI:https://www.stpeterspawleys.org/events/choir-rehearsal--118/2
 026-09-17
ATTACH;FILENAME=CHOIR.JPG;FMTTYPE=image/jpeg:https://dq5pwpg1q8ru0.cloudfro
 nt.net/2022/12/13/16/36/09/a36c3e16-2f58-46da-867b-3985b27d71ec/CHOIR.JPG
END:VEVENT
END:VCALENDAR
