BEGIN:VCALENDAR
VERSION:2.0
PRODID:icalendar-ruby
CALSCALE:GREGORIAN
METHOD:PUBLISH
BEGIN:VEVENT
DTSTAMP:20260424T215126Z
UID:213-3196009@stpeterspawleys.org
DTSTART:20261025T144500Z
DTEND:20261025T154500Z
CLASS:PUBLIC
CREATED:20260424T151637
DESCRIPTION:
LAST-MODIFIED:20260424T151637
LOCATION:Conference Room
SUMMARY:Adult Sunday School
URL;VALUE=URI:https://www.stpeterspawleys.org/events/adult-sunday-school/20
 26-10-25
ATTACH;FILENAME=SUNDAY SCHOOL.JPG;FMTTYPE=image/jpeg:https://dq5pwpg1q8ru0.
 cloudfront.net/2024/04/05/12/00/52/7df61cb3-d53e-4c22-90b6-332c4695bd51/SU
 NDAY%20SCHOOL.JPG
END:VEVENT
END:VCALENDAR
